BEGIN:VCALENDAR
VERSION:2.0
PRODID:spatie/icalendar-generator
DESCRIPTION:Events from IMPO
X-WR-CALDESC:Events from IMPO
REFRESH-INTERVAL;VALUE=DURATION:PT1440M
X-PUBLISHED-TTL:PT1440M
BEGIN:VTIMEZONE
TZID:Etc/GMT+0
BEGIN:STANDARD
DTSTART:20250209T160000Z
TZOFFSETFROM:+0000
TZOFFSETTO:+0000
END:STANDARD
END:VTIMEZONE
BEGIN:VTIMEZONE
TZID:UTC
BEGIN:STANDARD
DTSTART:20250729T131244Z
TZOFFSETFROM:+0000
TZOFFSETTO:+0000
END:STANDARD
END:VTIMEZONE
BEGIN:VEVENT
UID:76-66
DTSTAMP:20260425T131244Z
SUMMARY:Diabetes. \"Causa Global\".
LOCATION:
ORGANIZER;CN=Karinama:MAILTO:kmartinez@impo.com.uy
DTSTART;TZID=Etc/GMT+0:20251106T160000
DTEND;TZID=Etc/GMT+0:20251106T190000
X-ALT-DESC;FMTTYPE=TEXT/HTML:José Marín - Presidente del Club de Leones. 
 &amp;nbsp\;
CATEGORIES:General
URL;VALUE=URI:https://www.impo.com.uy/mc-events/diabetes-causa-global/
METHOD:PUBLISH
END:VEVENT
END:VCALENDAR