BEGIN:VCALENDAR
VERSION:2.0
PRODID:spatie/icalendar-generator
DESCRIPTION:Events from IMPO
X-WR-CALDESC:Events from IMPO
REFRESH-INTERVAL;VALUE=DURATION:PT1440M
X-PUBLISHED-TTL:PT1440M
BEGIN:VTIMEZONE
TZID:Etc/GMT+0
BEGIN:STANDARD
DTSTART:20230820T100000Z
TZOFFSETFROM:+0000
TZOFFSETTO:+0000
END:STANDARD
END:VTIMEZONE
BEGIN:VTIMEZONE
TZID:UTC
BEGIN:STANDARD
DTSTART:20250728T023901Z
TZOFFSETFROM:+0000
TZOFFSETTO:+0000
END:STANDARD
END:VTIMEZONE
BEGIN:VEVENT
UID:33-33
DTSTAMP:20260424T023901Z
SUMMARY:SALUD MENTAL - MIDES
LOCATION:
ORGANIZER;CN=Alvaro Cravero:MAILTO:acravero@impo.com.uy
DTSTART;TZID=Etc/GMT+0:20240516T100000
DTEND;TZID=Etc/GMT+0:20240517T130000
X-ALT-DESC;FMTTYPE=TEXT/HTML:Capacitación en Salud Mental - MIDES
CATEGORIES:General
URL;VALUE=URI:https://www.impo.com.uy/mc-events/salud-mental-mides/
METHOD:PUBLISH
END:VEVENT
END:VCALENDAR